BEGIN:VCALENDAR
VERSION:2.0
PRODID:-//Office for Victims of Crime//NONSGML Event Calendar//EN
BEGIN:VEVENT
UID:6ee7c521-8211-4941-99d7-8ea1c1178169
DTSTART;TZID=UTC:20250410T160000
SEQUENCE:0
TRANSP:OPAQUE
DTEND;TZID=UTC:20250410T170000
LOCATION:https://www.ovc.ojp.gov/events/national-crime-victims-rights-week-
 commemorative-ceremony-0
SUMMARY:National Crime Victims' Rights Week Commemorative Ceremony
CLASS:PUBLIC
DESCRIPTION:Learn more about this event: https://www.ovc.ojp.gov/events/nat
 ional-crime-victims-rights-week-commemorative-ceremony-0
DTSTAMP:20260423T010749Z
END:VEVENT
END:VCALENDAR