BEGIN:VCALENDAR
VERSION:2.0
PRODID:-//Office for Victims of Crime//NONSGML Event Calendar//EN
BEGIN:VEVENT
UID:9bd33ba0-7a79-49b0-8ccb-e23d5a392990
DTSTART;TZID=UTC:20251215T130000
SEQUENCE:0
TRANSP:OPAQUE
DTEND;TZID=UTC:20251219T220000
LOCATION:https://www.ovc.ojp.gov/events/elder-crime-practitioner-designatio
 n
SUMMARY:Elder Crime Practitioner Designation
CLASS:PUBLIC
DESCRIPTION:Learn more about this event: https://www.ovc.ojp.gov/events/eld
 er-crime-practitioner-designation
DTSTAMP:20260422T214953Z
END:VEVENT
END:VCALENDAR