BEGIN:VCALENDAR
VERSION:2.0
PRODID:-//Office for Victims of Crime//NONSGML Event Calendar//EN
BEGIN:VEVENT
UID:3e56968d-88cf-4818-980e-936104bbf8ab
DTSTART;TZID=UTC:20250408T000000
SEQUENCE:0
TRANSP:OPAQUE
DTEND;TZID=UTC:20250408T020000
LOCATION:https://www.ovc.ojp.gov/events/2025-national-crime-victims-rights-
 week-memorial-west-valley
SUMMARY:2025 National Crime Victims' Rights Week Memorial - West Valley
CLASS:PUBLIC
DESCRIPTION:Learn more about this event: https://www.ovc.ojp.gov/events/202
 5-national-crime-victims-rights-week-memorial-west-valley
DTSTAMP:20260423T010748Z
END:VEVENT
END:VCALENDAR