BEGIN:VCALENDAR
VERSION:2.0
PRODID:-//Office for Victims of Crime//NONSGML Event Calendar//EN
BEGIN:VEVENT
UID:fdc2211d-d737-4404-82bb-ab9d6d36a7a8
DTSTART;TZID=UTC:20250410T003000
SEQUENCE:0
TRANSP:OPAQUE
DTEND;TZID=UTC:20250410T023000
LOCATION:https://www.ovc.ojp.gov/events/2025-national-crime-victims-rights-
 week-memorial-high-desert
SUMMARY:2025 National Crime Victims' Rights Week Memorial - High Desert
CLASS:PUBLIC
DESCRIPTION:Learn more about this event: https://www.ovc.ojp.gov/events/202
 5-national-crime-victims-rights-week-memorial-high-desert
DTSTAMP:20260423T010751Z
END:VEVENT
END:VCALENDAR