BEGIN:VCALENDAR
VERSION:2.0
PRODID:-//Office for Victims of Crime//NONSGML Event Calendar//EN
BEGIN:VEVENT
UID:1a4760d1-c3d4-437c-a0b4-3ea7e865ac71
DTSTART;VALUE=DATE:20250407
SEQUENCE:0
TRANSP:OPAQUE
DTEND;VALUE=DATE:20250408
LOCATION:https://www.ovc.ojp.gov/events/2025-national-crime-victims-rights-
 week-arizona-awards-ceremony
SUMMARY:2025 National Crime Victims’ Rights Week Arizona Awards Ceremony
CLASS:PUBLIC
DESCRIPTION:Learn more about this event: https://www.ovc.ojp.gov/events/202
 5-national-crime-victims-rights-week-arizona-awards-ceremony
X-MICROSOFT-CDO-ALLDAYEVENT:TRUE
DTSTAMP:20260423T010748Z
END:VEVENT
END:VCALENDAR