BEGIN:VCALENDAR
VERSION:2.0
PRODID:-//Office for Victims of Crime//NONSGML Event Calendar//EN
BEGIN:VEVENT
UID:32621159-5d05-4ee2-bd43-caaa7e646375
DTSTART;TZID=UTC:20250326T190000
SEQUENCE:0
TRANSP:OPAQUE
DTEND;TZID=UTC:20250326T200000
LOCATION:https://www.ovc.ojp.gov/events/ovc-voca-center-webinar-succession-
 planning-victims-services
SUMMARY:The OVC VOCA Center - Webinar: Succession Planning in Victims Servi
 ces
CLASS:PUBLIC
DESCRIPTION:Learn more about this event: https://www.ovc.ojp.gov/events/ovc
 -voca-center-webinar-succession-planning-victims-services
DTSTAMP:20260423T023923Z
END:VEVENT
END:VCALENDAR