BEGIN:VCALENDAR
VERSION:2.0
PRODID:-//Office for Victims of Crime//NONSGML Event Calendar//EN
BEGIN:VEVENT
UID:4cadbc52-a2a6-4472-9366-0854b5df0355
DTSTART;TZID=UTC:20250410T193000
SEQUENCE:0
TRANSP:OPAQUE
DTEND;TZID=UTC:20250410T203000
LOCATION:https://www.ovc.ojp.gov/events/continued-presence-webinar-law-enfo
 rcement-4
SUMMARY:Continued Presence Webinar for Law Enforcement
CLASS:PUBLIC
DESCRIPTION:Learn more about this event: https://www.ovc.ojp.gov/events/con
 tinued-presence-webinar-law-enforcement-4
DTSTAMP:20260422T233749Z
END:VEVENT
END:VCALENDAR