BEGIN:VCALENDAR
VERSION:2.0
PRODID:-//Office for Victims of Crime//NONSGML Event Calendar//EN
BEGIN:VEVENT
UID:8450f909-c917-4d8f-a9f4-a9e5c2a5ecfe
DTSTART;TZID=UTC:20250411T180000
SEQUENCE:0
TRANSP:OPAQUE
DTEND;TZID=UTC:20250411T200000
LOCATION:https://www.ovc.ojp.gov/events/kingsessing-heals-grand-opening
SUMMARY:Kingsessing Heals Grand Opening 
CLASS:PUBLIC
DESCRIPTION:Learn more about this event: https://www.ovc.ojp.gov/events/kin
 gsessing-heals-grand-opening
DTSTAMP:20260422T233749Z
END:VEVENT
END:VCALENDAR