BEGIN:VCALENDAR
VERSION:2.0
PRODID:-//Office for Victims of Crime//NONSGML Event Calendar//EN
BEGIN:VEVENT
UID:95a03f6d-1919-4962-b0d5-a38bd381e1e5
DTSTART;TZID=UTC:20250406T010000
SEQUENCE:0
TRANSP:OPAQUE
DTEND;TZID=UTC:20250406T030000
LOCATION:https://www.ovc.ojp.gov/events/parents-murdered-children-candlelig
 ht-vigil
SUMMARY:Parents of Murdered Children Candlelight Vigil 
CLASS:PUBLIC
DESCRIPTION:Learn more about this event: https://www.ovc.ojp.gov/events/par
 ents-murdered-children-candlelight-vigil
DTSTAMP:20260422T220357Z
END:VEVENT
END:VCALENDAR