BEGIN:VCALENDAR
VERSION:2.0
PRODID:-//Office for Victims of Crime//NONSGML Event Calendar//EN
BEGIN:VEVENT
UID:3c82cac2-30c7-4331-8c59-62fc22362d25
DTSTART;TZID=UTC:20250421T160000
SEQUENCE:0
TRANSP:OPAQUE
DTEND;TZID=UTC:20250421T173000
LOCATION:https://www.ovc.ojp.gov/events/lunch-and-learning-sexual-assault-a
 wareness-acts
SUMMARY:Lunch and Learning: Sexual Assault Awareness with ACTS
CLASS:PUBLIC
DESCRIPTION:Learn more about this event: https://www.ovc.ojp.gov/events/lun
 ch-and-learning-sexual-assault-awareness-acts
DTSTAMP:20260422T220448Z
END:VEVENT
END:VCALENDAR