BEGIN:VCALENDAR
VERSION:2.0
PRODID:-//Office for Victims of Crime//NONSGML Event Calendar//EN
BEGIN:VEVENT
UID:31dcac61-719a-47af-a7a0-c5b7ea3b5f98
DTSTART;TZID=UTC:20250429T160000
SEQUENCE:0
TRANSP:OPAQUE
DTEND;TZID=UTC:20250429T173000
LOCATION:https://www.ovc.ojp.gov/events/lunch-and-learning-child-abuse-awar
 eness-child-trust
SUMMARY:Lunch and Learning: Child Abuse Awareness with Child Trust
CLASS:PUBLIC
DESCRIPTION:Learn more about this event: https://www.ovc.ojp.gov/events/lun
 ch-and-learning-child-abuse-awareness-child-trust
DTSTAMP:20260422T220448Z
END:VEVENT
END:VCALENDAR