BEGIN:VCALENDAR
VERSION:2.0
PRODID:-//Office for Victims of Crime//NONSGML Event Calendar//EN
BEGIN:VEVENT
UID:7bce38f3-ea25-4a53-a797-25843eee6afb
DTSTART;TZID=UTC:20250411T150000
SEQUENCE:0
TRANSP:OPAQUE
DTEND;TZID=UTC:20250411T190000
LOCATION:https://www.ovc.ojp.gov/events/because-organization-steps-hope-job
 -fair
SUMMARY:Because Organization Steps to Hope Job Fair
CLASS:PUBLIC
DESCRIPTION:Learn more about this event: https://www.ovc.ojp.gov/events/bec
 ause-organization-steps-hope-job-fair
DTSTAMP:20260423T010750Z
END:VEVENT
END:VCALENDAR