BEGIN:VCALENDAR
VERSION:2.0
PRODID:-//Office for Victims of Crime//NONSGML Event Calendar//EN
BEGIN:VEVENT
UID:02b3250c-2fbb-43d4-99ce-c0b5b24f8c0b
DTSTART;TZID=UTC:20250410T020000
SEQUENCE:0
TRANSP:OPAQUE
DTEND;TZID=UTC:20250410T033000
LOCATION:https://www.ovc.ojp.gov/events/hawaii-crime-victims-justice-connec
 ting-kinship-healing
SUMMARY:Hawaii Crime Victims for Justice in Connecting\, Kinship & Healing
CLASS:PUBLIC
DESCRIPTION:Learn more about this event: https://www.ovc.ojp.gov/events/haw
 aii-crime-victims-justice-connecting-kinship-healing
DTSTAMP:20260423T005851Z
END:VEVENT
END:VCALENDAR