BEGIN:VCALENDAR
VERSION:2.0
PRODID:-//Office for Victims of Crime//NONSGML Event Calendar//EN
BEGIN:VEVENT
UID:04fe28e4-f18e-46f7-b133-f67906a9f583
DTSTART;TZID=UTC:20250410T223000
SEQUENCE:0
TRANSP:OPAQUE
DTEND;TZID=UTC:20250411T003000
LOCATION:https://www.ovc.ojp.gov/events/brushstrokes-resilience-watercolor-
 workshop
SUMMARY:Brushstrokes of Resilience: Watercolor Workshop
CLASS:PUBLIC
DESCRIPTION:Learn more about this event: https://www.ovc.ojp.gov/events/bru
 shstrokes-resilience-watercolor-workshop
DTSTAMP:20260423T005926Z
END:VEVENT
END:VCALENDAR