BEGIN:VCALENDAR
VERSION:2.0
PRODID:-//Office for Victims of Crime//NONSGML Event Calendar//EN
BEGIN:VEVENT
UID:e42b13e3-ce4c-43a8-8a74-5fc63c9860c5
DTSTART;TZID=UTC:20250409T170000
SEQUENCE:0
TRANSP:OPAQUE
DTEND;TZID=UTC:20250409T183000
LOCATION:https://www.ovc.ojp.gov/events/national-crime-victims-rights-week-
 press-conference-restoration-ceremony
SUMMARY:National Crime Victims' Rights Week Press Conference & Restoration 
 Ceremony
CLASS:PUBLIC
DESCRIPTION:Learn more about this event: https://www.ovc.ojp.gov/events/nat
 ional-crime-victims-rights-week-press-conference-restoration-ceremony
DTSTAMP:20260423T005851Z
END:VEVENT
END:VCALENDAR