BEGIN:VCALENDAR
VERSION:2.0
PRODID:-//Office for Victims of Crime//NONSGML Event Calendar//EN
BEGIN:VEVENT
UID:03112cb1-9083-4e95-8f98-a7b6ca0b0f3a
DTSTART;TZID=UTC:20250408T130000
SEQUENCE:0
TRANSP:OPAQUE
DTEND;TZID=UTC:20250408T170000
LOCATION:https://www.ovc.ojp.gov/events/national-crime-victims-rights-week-
 and-sexual-assault-awareness-month-train-trainer-forum
SUMMARY:National Crime Victims' Rights Week and Sexual Assault Awareness Mo
 nth “Train-the-Trainer” Forum and Community Outreach
CLASS:PUBLIC
DESCRIPTION:Learn more about this event: https://www.ovc.ojp.gov/events/nat
 ional-crime-victims-rights-week-and-sexual-assault-awareness-month-train-t
 rainer-forum
DTSTAMP:20260422T220359Z
END:VEVENT
END:VCALENDAR