BEGIN:VCALENDAR
VERSION:2.0
PRODID:-//Office for Victims of Crime//NONSGML Event Calendar//EN
BEGIN:VEVENT
UID:7d1ef73b-bb96-490b-b8be-f6f794815461
DTSTART;TZID=UTC:20250713T150000
SEQUENCE:0
TRANSP:OPAQUE
DTEND;TZID=UTC:20250713T230000
LOCATION:https://www.ovc.ojp.gov/events/brycen-douglas-annual-3v3-basketbal
 l-tournament
SUMMARY:Brycen Douglas Annual 3v3 Basketball Tournament 
CLASS:PUBLIC
DESCRIPTION:Learn more about this event: https://www.ovc.ojp.gov/events/bry
 cen-douglas-annual-3v3-basketball-tournament
DTSTAMP:20260410T153314Z
END:VEVENT
END:VCALENDAR