BEGIN:VCALENDAR
VERSION:2.0
PRODID:-//Office for Victims of Crime//NONSGML Event Calendar//EN
BEGIN:VEVENT
UID:e2cad613-2276-47bc-8d4d-b47191dd866d
DTSTART;TZID=UTC:20250513T170000
SEQUENCE:0
TRANSP:OPAQUE
DTEND;TZID=UTC:20250513T180000
LOCATION:https://www.ovc.ojp.gov/events/new-yorks-vulnerable-elder-protecti
 on-team-vept
SUMMARY:New York’s Vulnerable Elder Protection Team (VEPT)
CLASS:PUBLIC
DESCRIPTION:Learn more about this event: https://www.ovc.ojp.gov/events/new
 -yorks-vulnerable-elder-protection-team-vept
DTSTAMP:20260422T214935Z
END:VEVENT
END:VCALENDAR