BEGIN:VCALENDAR
VERSION:2.0
PRODID:-//Office for Victims of Crime//NONSGML Event Calendar//EN
BEGIN:VEVENT
UID:30d117f4-632c-4400-b770-1d78b57db029
DTSTART;TZID=UTC:20250618T173000
SEQUENCE:0
TRANSP:OPAQUE
DTEND;TZID=UTC:20250618T190000
LOCATION:https://www.ovc.ojp.gov/events/responding-mass-violence-essential-
 skills-victim-assistance
SUMMARY:Responding to Mass Violence:  Essential Skills for Victim Assistanc
 e
CLASS:PUBLIC
DESCRIPTION:Learn more about this event: https://www.ovc.ojp.gov/events/res
 ponding-mass-violence-essential-skills-victim-assistance
DTSTAMP:20260422T221102Z
END:VEVENT
END:VCALENDAR