BEGIN:VCALENDAR
VERSION:2.0
PRODID:-//Office for Victims of Crime//NONSGML Event Calendar//EN
BEGIN:VEVENT
UID:5ea63bc5-b6a3-476a-939b-7a7d576f3faa
DTSTART;TZID=UTC:20250617T190000
SEQUENCE:0
TRANSP:OPAQUE
DTEND;TZID=UTC:20250617T200000
LOCATION:https://www.ovc.ojp.gov/events/virtual-gathering-connect-your-circ
 le-support-victim-services-and-grant-navigation-0
SUMMARY:Virtual Gathering - Connect with Your Circle of Support for Victim 
 Services and Grant Navigation: Integrating Culture Into Victim Services
CLASS:PUBLIC
DESCRIPTION:Learn more about this event: https://www.ovc.ojp.gov/events/vir
 tual-gathering-connect-your-circle-support-victim-services-and-grant-navig
 ation-0
DTSTAMP:20260423T011517Z
END:VEVENT
END:VCALENDAR