BEGIN:VCALENDAR
VERSION:2.0
PRODID:-//Office for Victims of Crime//NONSGML Event Calendar//EN
BEGIN:VEVENT
UID:ac020d49-0589-4dd5-94f6-25fca44dbf7c
DTSTART;TZID=UTC:20250626T180000
SEQUENCE:0
TRANSP:OPAQUE
DTEND;TZID=UTC:20250626T190000
LOCATION:https://www.ovc.ojp.gov/events/digital-wolf-sheeps-clothing-protec
 ting-kids-age-ai
SUMMARY:The Digital Wolf in Sheep's Clothing: Protecting Kids in the Age of
  AI
CLASS:PUBLIC
DESCRIPTION:Learn more about this event: https://www.ovc.ojp.gov/events/dig
 ital-wolf-sheeps-clothing-protecting-kids-age-ai
DTSTAMP:20260422T220450Z
END:VEVENT
END:VCALENDAR