BEGIN:VCALENDAR
VERSION:2.0
PRODID:-//Office for Victims of Crime//NONSGML Event Calendar//EN
BEGIN:VEVENT
UID:4b2416f4-36a9-46a0-999b-2cfb73de7597
DTSTART;TZID=UTC:20250717T120000
SEQUENCE:0
TRANSP:OPAQUE
DTEND;TZID=UTC:20250717T210000
LOCATION:https://www.ovc.ojp.gov/events/child-sex-trafficking-first-respond
 ers-1
SUMMARY:Child Sex Trafficking for First Responders
CLASS:PUBLIC
DESCRIPTION:Learn more about this event: https://www.ovc.ojp.gov/events/chi
 ld-sex-trafficking-first-responders-1
DTSTAMP:20260409T170955Z
END:VEVENT
END:VCALENDAR