BEGIN:VCALENDAR
VERSION:2.0
PRODID:-//Office for Victims of Crime//NONSGML Event Calendar//EN
BEGIN:VEVENT
UID:515995cc-abb9-48d3-b94d-c2ac638d2abc
DTSTART;TZID=UTC:20250717T150000
SEQUENCE:0
TRANSP:OPAQUE
DTEND;TZID=UTC:20250717T220000
LOCATION:https://www.ovc.ojp.gov/events/child-sex-trafficking-suspicion-dis
 closure-1
SUMMARY:Child Sex Trafficking: From Suspicion to Disclosure
CLASS:PUBLIC
DESCRIPTION:Learn more about this event: https://www.ovc.ojp.gov/events/chi
 ld-sex-trafficking-suspicion-disclosure-1
DTSTAMP:20260422T220401Z
END:VEVENT
END:VCALENDAR