BEGIN:VCALENDAR
VERSION:2.0
PRODID:-//Office for Victims of Crime//NONSGML Event Calendar//EN
BEGIN:VEVENT
UID:7647ab01-c86b-459c-a41f-45988ad929f8
DTSTART;TZID=UTC:20250729T140000
SEQUENCE:0
TRANSP:OPAQUE
DTEND;TZID=UTC:20250729T210000
LOCATION:https://www.ovc.ojp.gov/events/child-abuse-suspicion-disclosure-0
SUMMARY:Child Abuse: From Suspicion to Disclosure
CLASS:PUBLIC
DESCRIPTION:Learn more about this event: https://www.ovc.ojp.gov/events/chi
 ld-abuse-suspicion-disclosure-0
DTSTAMP:20260422T220448Z
END:VEVENT
END:VCALENDAR