BEGIN:VCALENDAR
VERSION:2.0
PRODID:-//Office for Victims of Crime//NONSGML Event Calendar//EN
BEGIN:VEVENT
UID:4ecab99b-b766-4082-b4b1-4470162bf9ac
DTSTART;TZID=UTC:20250904T140000
SEQUENCE:0
TRANSP:OPAQUE
DTEND;TZID=UTC:20250904T210000
LOCATION:https://www.ovc.ojp.gov/events/child-sex-trafficking-suspicion-dis
 closure-2
SUMMARY:Child Sex Trafficking: From Suspicion to Disclosure
CLASS:PUBLIC
DESCRIPTION:Learn more about this event: https://www.ovc.ojp.gov/events/chi
 ld-sex-trafficking-suspicion-disclosure-2
DTSTAMP:20260422T220451Z
END:VEVENT
END:VCALENDAR