BEGIN:VCALENDAR
VERSION:2.0
PRODID:-//Office for Victims of Crime//NONSGML Event Calendar//EN
BEGIN:VEVENT
UID:385e173e-dbb1-4d19-8915-62b00327d27e
DTSTART;TZID=UTC:20250930T140000
SEQUENCE:0
TRANSP:OPAQUE
DTEND;TZID=UTC:20250930T210000
LOCATION:https://www.ovc.ojp.gov/events/child-abuse-suspicion-disclosure-1
SUMMARY:Child Abuse: From Suspicion to Disclosure
CLASS:PUBLIC
DESCRIPTION:Learn more about this event: https://www.ovc.ojp.gov/events/chi
 ld-abuse-suspicion-disclosure-1
DTSTAMP:20260422T220342Z
END:VEVENT
END:VCALENDAR