BEGIN:VCALENDAR
VERSION:2.0
PRODID:-//Office for Victims of Crime//NONSGML Event Calendar//EN
BEGIN:VEVENT
UID:5f22cc30-2c54-4f77-8231-b06d132570cc
DTSTART;TZID=UTC:20251120T160000
SEQUENCE:0
TRANSP:OPAQUE
DTEND;TZID=UTC:20251121T000000
LOCATION:https://www.ovc.ojp.gov/events/responding-sextortion-related-offen
 ses-against-children-0
SUMMARY:Responding to Sextortion Related Offenses Against Children
CLASS:PUBLIC
DESCRIPTION:Learn more about this event: https://www.ovc.ojp.gov/events/res
 ponding-sextortion-related-offenses-against-children-0
DTSTAMP:20260422T220341Z
END:VEVENT
END:VCALENDAR