BEGIN:VCALENDAR
VERSION:2.0
PRODID:-//Office for Victims of Crime//NONSGML Event Calendar//EN
BEGIN:VEVENT
UID:314e83e0-e1e4-4d21-816f-daa7ac2e7948
DTSTART;TZID=UTC:20251030T140000
SEQUENCE:0
TRANSP:OPAQUE
DTEND;TZID=UTC:20251030T220000
LOCATION:https://www.ovc.ojp.gov/events/responding-sextortion-related-offen
 ses-against-children-2
SUMMARY:Responding to Sextortion Related Offenses Against Children
CLASS:PUBLIC
DESCRIPTION:Learn more about this event: https://www.ovc.ojp.gov/events/res
 ponding-sextortion-related-offenses-against-children-2
DTSTAMP:20260422T220342Z
END:VEVENT
END:VCALENDAR