BEGIN:VCALENDAR
VERSION:2.0
PRODID:-//Office for Victims of Crime//NONSGML Event Calendar//EN
BEGIN:VEVENT
UID:c110245d-5fa0-43dd-8989-23d5c45a15a8
DTSTART;TZID=UTC:20250710T180000
SEQUENCE:0
TRANSP:OPAQUE
DTEND;TZID=UTC:20250710T190000
LOCATION:https://www.ovc.ojp.gov/events/centering-tribal-victim-advocacy-mi
 ssing-or-murdered-indigenous-people-response
SUMMARY:Centering Tribal Victim Advocacy in Missing or Murdered Indigenous 
 People Response
CLASS:PUBLIC
DESCRIPTION:Learn more about this event: https://www.ovc.ojp.gov/events/cen
 tering-tribal-victim-advocacy-missing-or-murdered-indigenous-people-respon
 se
DTSTAMP:20260422T220400Z
END:VEVENT
END:VCALENDAR