BEGIN:VCALENDAR
VERSION:2.0
PRODID:-//Office for Victims of Crime//NONSGML Event Calendar//EN
BEGIN:VEVENT
UID:97ea18a8-348b-45ac-90ff-e7e9ae2ff5f3
DTSTART;TZID=UTC:20250731T180000
SEQUENCE:0
TRANSP:OPAQUE
DTEND;TZID=UTC:20250731T191500
LOCATION:https://www.ovc.ojp.gov/events/building-dynamic-board-enhancing-pr
 oductivity-and-engagement-expert-qa
SUMMARY:Building a Dynamic Board: Enhancing Productivity and Engagement Exp
 ert Q&A
CLASS:PUBLIC
DESCRIPTION:Learn more about this event: https://www.ovc.ojp.gov/events/bui
 lding-dynamic-board-enhancing-productivity-and-engagement-expert-qa
DTSTAMP:20260422T220357Z
END:VEVENT
END:VCALENDAR