BEGIN:VCALENDAR
VERSION:2.0
PRODID:-//Office for Victims of Crime//NONSGML Event Calendar//EN
BEGIN:VEVENT
UID:dc27b88d-44cc-4a86-bd70-ca50e8613902
DTSTART;TZID=UTC:20250923T180000
SEQUENCE:0
TRANSP:OPAQUE
DTEND;TZID=UTC:20250923T191500
LOCATION:https://www.ovc.ojp.gov/events/expert-qa-strengthening-our-own-sup
 port-systems-promoting-positive-culture-instead-cancel
SUMMARY:Expert Q&A: Strengthening Our Own Support Systems: Promoting Positi
 ve Culture Instead of Cancel Culture
CLASS:PUBLIC
DESCRIPTION:Learn more about this event: https://www.ovc.ojp.gov/events/exp
 ert-qa-strengthening-our-own-support-systems-promoting-positive-culture-in
 stead-cancel
DTSTAMP:20260422T220448Z
END:VEVENT
END:VCALENDAR