BEGIN:VCALENDAR
VERSION:2.0
PRODID:-//Office for Victims of Crime//NONSGML Event Calendar//EN
BEGIN:VEVENT
UID:efa0532c-afe5-49a8-8bfb-0744a5bf76ed
DTSTART;TZID=UTC:20251113T133000
SEQUENCE:0
TRANSP:OPAQUE
DTEND;TZID=UTC:20251114T220000
LOCATION:https://www.ovc.ojp.gov/events/leading-strategic-responses-human-t
 rafficking
SUMMARY:Leading Strategic Responses to Human Trafficking
CLASS:PUBLIC
DESCRIPTION:Learn more about this event: https://www.ovc.ojp.gov/events/lea
 ding-strategic-responses-human-trafficking
DTSTAMP:20260409T122300Z
END:VEVENT
END:VCALENDAR