BEGIN:VCALENDAR
VERSION:2.0
PRODID:-//Office for Victims of Crime//NONSGML Event Calendar//EN
BEGIN:VEVENT
UID:56107474-597f-4de6-ae01-30f4a0661d12
DTSTART;TZID=UTC:20251022T180000
SEQUENCE:0
TRANSP:OPAQUE
DTEND;TZID=UTC:20251022T193000
LOCATION:https://www.ovc.ojp.gov/events/vital-subjects-intersections-animal
 -abuse-interpersonal-violence-and-child-abuse
SUMMARY:Vital Subjects: The Intersections of Animal Abuse\, Interpersonal V
 iolence\, and Child Abuse
CLASS:PUBLIC
DESCRIPTION:Learn more about this event: https://www.ovc.ojp.gov/events/vit
 al-subjects-intersections-animal-abuse-interpersonal-violence-and-child-ab
 use
DTSTAMP:20260417T105523Z
END:VEVENT
END:VCALENDAR