BEGIN:VCALENDAR
VERSION:2.0
PRODID:-//Office for Victims of Crime//NONSGML Event Calendar//EN
BEGIN:VEVENT
UID:0e622592-fb03-4a0f-a5da-4244b20f9e49
DTSTART;TZID=UTC:20260325T180000
SEQUENCE:0
TRANSP:OPAQUE
DTEND;TZID=UTC:20260325T193000
LOCATION:https://www.ovc.ojp.gov/events/navigating-federal-systems
SUMMARY:Navigating Federal Systems
CLASS:PUBLIC
DESCRIPTION:Learn more about this event: https://www.ovc.ojp.gov/events/nav
 igating-federal-systems
DTSTAMP:20260422T234547Z
END:VEVENT
END:VCALENDAR