BEGIN:VCALENDAR
VERSION:2.0
PRODID:-//Office for Victims of Crime//NONSGML Event Calendar//EN
BEGIN:VEVENT
UID:8c4df4e6-229c-4a96-9d8d-0a8aeb769662
DTSTART;TZID=UTC:20260407T190000
SEQUENCE:0
TRANSP:OPAQUE
DTEND;TZID=UTC:20260407T201500
LOCATION:https://www.ovc.ojp.gov/events/bearing-bad-news-trauma-informed-co
 mmunication
SUMMARY:Bearing the Bad News with Trauma-Informed Communication
CLASS:PUBLIC
DESCRIPTION:Learn more about this event: https://www.ovc.ojp.gov/events/bea
 ring-bad-news-trauma-informed-communication
DTSTAMP:20260422T214953Z
END:VEVENT
END:VCALENDAR