BEGIN:VCALENDAR
VERSION:2.0
PRODID:-//Office for Victims of Crime//NONSGML Event Calendar//EN
BEGIN:VEVENT
UID:acf72e19-474c-4332-9e95-c74a57a8fde1
DTSTART;TZID=UTC:20260723T190000
SEQUENCE:0
TRANSP:OPAQUE
DTEND;TZID=UTC:20260723T201500
LOCATION:https://www.ovc.ojp.gov/events/engaging-innovative-approaches-serv
 ing-crime-victims-leveraging-peer-support
SUMMARY:Engaging Innovative Approaches to Serving Crime Victims: Leveraging
  Peer Support
CLASS:PUBLIC
DESCRIPTION:Learn more about this event: https://www.ovc.ojp.gov/events/eng
 aging-innovative-approaches-serving-crime-victims-leveraging-peer-support
DTSTAMP:20260410T152003Z
END:VEVENT
END:VCALENDAR