BEGIN:VCALENDAR
VERSION:2.0
PRODID:-//Office for Victims of Crime//NONSGML Event Calendar//EN
BEGIN:VEVENT
UID:93c08931-5218-468d-a021-0e60b2cd9648
DTSTART;TZID=UTC:20260514T170000
SEQUENCE:0
TRANSP:OPAQUE
DTEND;TZID=UTC:20260514T181500
LOCATION:https://www.ovc.ojp.gov/events/ethics-boundaries-and-confidentiali
 ty
SUMMARY:Ethics\, Boundaries and Confidentiality
CLASS:PUBLIC
DESCRIPTION:Learn more about this event: https://www.ovc.ojp.gov/events/eth
 ics-boundaries-and-confidentiality
DTSTAMP:20260410T101318Z
END:VEVENT
END:VCALENDAR