BEGIN:VCALENDAR
VERSION:2.0
PRODID:-//Office for Victims of Crime//NONSGML Event Calendar//EN
BEGIN:VEVENT
UID:4ac246c7-1cf1-4c03-942e-69eefd61c5c8
DTSTART;TZID=UTC:20260505T170000
SEQUENCE:0
TRANSP:OPAQUE
DTEND;TZID=UTC:20260505T181500
LOCATION:https://www.ovc.ojp.gov/events/stress-vicarious-trauma-compassion-
 fatigue-and-burn-out-what-are-they-and-how-do-we-deal
SUMMARY:Stress\, Vicarious Trauma\, Compassion Fatigue and Burn-out: What a
 re They\, and How Do We Deal with Them?
CLASS:PUBLIC
DESCRIPTION:Learn more about this event: https://www.ovc.ojp.gov/events/str
 ess-vicarious-trauma-compassion-fatigue-and-burn-out-what-are-they-and-how
 -do-we-deal
DTSTAMP:20260422T214918Z
END:VEVENT
END:VCALENDAR