BEGIN:VCALENDAR
VERSION:2.0
PRODID:-//Office for Victims of Crime//NONSGML Event Calendar//EN
BEGIN:VEVENT
UID:7160e6fe-4131-4493-8f63-42c66bce36ae
DTSTART;TZID=UTC:20261027T190000
SEQUENCE:0
TRANSP:OPAQUE
DTEND;TZID=UTC:20261027T201500
LOCATION:https://www.ovc.ojp.gov/events/when-helpers-are-hurt-what-healing-
 looks-criminal-justice-and-related-professionals
SUMMARY:When the Helpers are Hurt: What Healing Looks like for Criminal Jus
 tice and Related Professionals
CLASS:PUBLIC
DESCRIPTION:Learn more about this event: https://www.ovc.ojp.gov/events/whe
 n-helpers-are-hurt-what-healing-looks-criminal-justice-and-related-profess
 ionals
DTSTAMP:20260422T214953Z
END:VEVENT
END:VCALENDAR