BEGIN:VCALENDAR
VERSION:2.0
PRODID:-//Office for Victims of Crime//NONSGML Event Calendar//EN
BEGIN:VEVENT
UID:94d8a378-351f-4f73-be2a-a9ba28dd030f
DTSTART;TZID=UTC:20261013T170000
SEQUENCE:0
TRANSP:OPAQUE
DTEND;TZID=UTC:20261013T181500
LOCATION:https://www.ovc.ojp.gov/events/victim-offender-dialogue-survivors-
 voice-and-journey-toward-healing
SUMMARY:Victim Offender Dialogue: A Survivor’s Voice and Journey Toward H
 ealing
CLASS:PUBLIC
DESCRIPTION:Learn more about this event: https://www.ovc.ojp.gov/events/vic
 tim-offender-dialogue-survivors-voice-and-journey-toward-healing
DTSTAMP:20260422T215049Z
END:VEVENT
END:VCALENDAR