BEGIN:VCALENDAR
VERSION:2.0
PRODID:-//Office for Victims of Crime//NONSGML Event Calendar//EN
BEGIN:VEVENT
UID:9b765740-b5c9-42a5-89b4-c237fa24b479
DTSTART;TZID=UTC:20260422T160000
SEQUENCE:0
TRANSP:OPAQUE
DTEND;TZID=UTC:20260422T170000
LOCATION:https://www.ovc.ojp.gov/events/pennsylvania-office-victim-advocate
 -crime-victims-rights-week-lunch-learn-power-spoken-words
SUMMARY:Pennsylvania Office of Victim Advocate Crime Victims' Rights Week L
 unch & Learn: The Power of Spoken Words Featuring Rashan Legard
CLASS:PUBLIC
DESCRIPTION:Learn more about this event: https://www.ovc.ojp.gov/events/pen
 nsylvania-office-victim-advocate-crime-victims-rights-week-lunch-learn-pow
 er-spoken-words
DTSTAMP:20260414T102721Z
END:VEVENT
END:VCALENDAR