BEGIN:VCALENDAR
VERSION:2.0
PRODID:-//Office for Victims of Crime//NONSGML Event Calendar//EN
BEGIN:VEVENT
UID:91dff5a0-debe-4aba-b7c9-5716586459eb
DTSTART;TZID=UTC:20260424T203000
SEQUENCE:0
TRANSP:OPAQUE
DTEND;TZID=UTC:20260424T220000
LOCATION:https://www.ovc.ojp.gov/events/community-art-awareness-listening-c
 anvas
SUMMARY:Community Art of Awareness: The Listening Canvas
CLASS:PUBLIC
DESCRIPTION:Learn more about this event: https://www.ovc.ojp.gov/events/com
 munity-art-awareness-listening-canvas
DTSTAMP:20260415T194339Z
END:VEVENT
END:VCALENDAR