BEGIN:VCALENDAR
VERSION:2.0
PRODID:-//Office for Victims of Crime//NONSGML Event Calendar//EN
BEGIN:VEVENT
UID:7fc3836b-944d-4b45-829f-ac37f770795b
DTSTART;TZID=UTC:20260423T233000
SEQUENCE:0
TRANSP:OPAQUE
DTEND;TZID=UTC:20260424T010000
LOCATION:https://www.ovc.ojp.gov/events/arkansas-crime-victims-rights-week-
 candlelight-vigil
SUMMARY:Arkansas Crime Victims' Rights Week Candlelight Vigil
CLASS:PUBLIC
DESCRIPTION:Learn more about this event: https://www.ovc.ojp.gov/events/ark
 ansas-crime-victims-rights-week-candlelight-vigil
DTSTAMP:20260414T102735Z
END:VEVENT
END:VCALENDAR