BEGIN:VCALENDAR
VERSION:2.0
PRODID:-//Office for Victims of Crime//NONSGML Event Calendar//EN
BEGIN:VEVENT
UID:c5827c5f-1705-4b74-9290-7698c814c937
DTSTART;TZID=UTC:20260421T150000
SEQUENCE:0
TRANSP:OPAQUE
DTEND;TZID=UTC:20260421T170000
LOCATION:https://www.ovc.ojp.gov/events/arkansas-recognition-and-victims-ri
 ghts-ceremony-0
SUMMARY:Arkansas Recognition and Victims’ Rights Ceremony
CLASS:PUBLIC
DESCRIPTION:Learn more about this event: https://www.ovc.ojp.gov/events/ark
 ansas-recognition-and-victims-rights-ceremony-0
DTSTAMP:20260414T110436Z
END:VEVENT
END:VCALENDAR