BEGIN:VCALENDAR
VERSION:2.0
PRODID:-//Office for Victims of Crime//NONSGML Event Calendar//EN
BEGIN:VEVENT
UID:50c3a6fc-adc1-43f9-8c7d-227115712899
DTSTART;TZID=UTC:20260422T150000
SEQUENCE:0
TRANSP:OPAQUE
DTEND;TZID=UTC:20260422T153000
LOCATION:https://www.ovc.ojp.gov/events/north-carolina-victim-assistance-ne
 twork-crime-victims-rights-week-memorial-garden-ceremony
SUMMARY:North Carolina Victim Assistance Network Crime Victims' Rights Week
  Memorial Garden Ceremony
CLASS:PUBLIC
DESCRIPTION:Learn more about this event: https://www.ovc.ojp.gov/events/nor
 th-carolina-victim-assistance-network-crime-victims-rights-week-memorial-g
 arden-ceremony
DTSTAMP:20260422T220223Z
END:VEVENT
END:VCALENDAR