BEGIN:VCALENDAR
VERSION:2.0
PRODID:-//Office for Victims of Crime//NONSGML Event Calendar//EN
BEGIN:VEVENT
UID:d45591f9-8f81-459f-9bbb-2bc852f9f460
DTSTART;TZID=UTC:20260422T183000
SEQUENCE:0
TRANSP:OPAQUE
DTEND;TZID=UTC:20260422T203000
LOCATION:https://www.ovc.ojp.gov/events/crime-victims-rights-day-2
SUMMARY:Crime Victims Rights Day
CLASS:PUBLIC
DESCRIPTION:Learn more about this event: https://www.ovc.ojp.gov/events/cri
 me-victims-rights-day-2
DTSTAMP:20260422T220224Z
END:VEVENT
END:VCALENDAR