BEGIN:VCALENDAR
VERSION:2.0
PRODID:-//Office for Victims of Crime//NONSGML Event Calendar//EN
BEGIN:VEVENT
UID:3141c11f-b02a-4fe8-8186-92b57202272b
DTSTART;TZID=UTC:20260423T230000
SEQUENCE:0
TRANSP:OPAQUE
DTEND;TZID=UTC:20260424T000000
LOCATION:https://www.ovc.ojp.gov/events/st-petersburg-police-departments-2n
 d-annual-candlelight-vigil
SUMMARY:St. Petersburg Police Department's 2nd Annual Candlelight Vigil 
CLASS:PUBLIC
DESCRIPTION:Learn more about this event: https://www.ovc.ojp.gov/events/st-
 petersburg-police-departments-2nd-annual-candlelight-vigil
DTSTAMP:20260422T220223Z
END:VEVENT
END:VCALENDAR