BEGIN:VCALENDAR
VERSION:2.0
PRODID:-//Office for Victims of Crime//NONSGML Event Calendar//EN
BEGIN:VEVENT
UID:ae9eb71d-f9bf-4cae-90fa-4e5f27cb9ea8
DTSTART;TZID=UTC:20260424T163000
SEQUENCE:0
TRANSP:OPAQUE
DTEND;TZID=UTC:20260424T180000
LOCATION:https://www.ovc.ojp.gov/events/walk-hope-0
SUMMARY:Walk of Hope
CLASS:PUBLIC
DESCRIPTION:Learn more about this event: https://www.ovc.ojp.gov/events/wal
 k-hope-0
DTSTAMP:20260422T220223Z
END:VEVENT
END:VCALENDAR