BEGIN:VCALENDAR
VERSION:2.0
PRODID:-//Office for Victims of Crime//NONSGML Event Calendar//EN
BEGIN:VEVENT
UID:fb5dd3f7-9c7b-41f9-bf4f-5f917839055c
DTSTART;TZID=UTC:20260424T223000
SEQUENCE:0
TRANSP:OPAQUE
DTEND;TZID=UTC:20260424T233000
LOCATION:https://www.ovc.ojp.gov/events/palomar-symbols-hope-art-gallery
SUMMARY:Palomar Symbols of Hope Art Gallery
CLASS:PUBLIC
DESCRIPTION:Learn more about this event: https://www.ovc.ojp.gov/events/pal
 omar-symbols-hope-art-gallery
DTSTAMP:20260422T220224Z
END:VEVENT
END:VCALENDAR