BEGIN:VCALENDAR
VERSION:2.0
PRODID:-//Office for Victims of Crime//NONSGML Event Calendar//EN
BEGIN:VEVENT
UID:0fb958bd-1f60-4697-9e39-6df47b719e3c
DTSTART;TZID=UTC:20220908T170000
SEQUENCE:0
TRANSP:OPAQUE
DTEND;TZID=UTC:20220908T180000
LOCATION:https://www.ovc.ojp.gov/events/introduction-improve-pilot-opportun
 ity
SUMMARY:Introduction to iMPRoVE Pilot Opportunity
CLASS:PUBLIC
DESCRIPTION:Learn more about this event: https://www.ovc.ojp.gov/events/int
 roduction-improve-pilot-opportunity
DTSTAMP:20260422T220401Z
END:VEVENT
END:VCALENDAR